BEGIN:VCALENDAR
VERSION:2.0
PRODID:-//EVA-Powerfrauen - ECPv6.15.15//NONSGML v1.0//EN
CALSCALE:GREGORIAN
METHOD:PUBLISH
X-ORIGINAL-URL:https://www.eva-powerfrauen.eu
X-WR-CALDESC:Akce na EVA-Powerfrauen
REFRESH-INTERVAL;VALUE=DURATION:PT1H
X-Robots-Tag:noindex
X-PUBLISHED-TTL:PT1H
BEGIN:VTIMEZONE
TZID:Europe/Vienna
BEGIN:DAYLIGHT
TZOFFSETFROM:+0100
TZOFFSETTO:+0200
TZNAME:CEST
DTSTART:20250330T010000
END:DAYLIGHT
BEGIN:STANDARD
TZOFFSETFROM:+0200
TZOFFSETTO:+0100
TZNAME:CET
DTSTART:20251026T010000
END:STANDARD
BEGIN:DAYLIGHT
TZOFFSETFROM:+0100
TZOFFSETTO:+0200
TZNAME:CEST
DTSTART:20260329T010000
END:DAYLIGHT
BEGIN:STANDARD
TZOFFSETFROM:+0200
TZOFFSETTO:+0100
TZNAME:CET
DTSTART:20261025T010000
END:STANDARD
BEGIN:DAYLIGHT
TZOFFSETFROM:+0100
TZOFFSETTO:+0200
TZNAME:CEST
DTSTART:20270328T010000
END:DAYLIGHT
BEGIN:STANDARD
TZOFFSETFROM:+0200
TZOFFSETTO:+0100
TZNAME:CET
DTSTART:20271031T010000
END:STANDARD
END:VTIMEZONE
BEGIN:VEVENT
DTSTART;TZID=Europe/Vienna:20260224T100000
DTEND;TZID=Europe/Vienna:20260224T113000
DTSTAMP:20260419T151620
CREATED:20260201T123626Z
LAST-MODIFIED:20260201T123626Z
UID:360-1771927200-1771932600@www.eva-powerfrauen.eu
SUMMARY:ONLINE vídeňská kávička
DESCRIPTION:☕ NETWORKING ONLINE | Vídeňská kávička\nVídeňská káva spojuje chuť a lehkost.\nKáva spojuje.\nŠlehačka povyšuje zážitek.\nA právě ta bude naším speciálním hostem 💫 \nPowerFRAUEN Networking tě zve na ONLINE vídeňskou kávičku se speciálním hostem Ivanou Kondášovou – lektorka a mentorka prezentačních zručností v byznyse\, která dodá celé kávě tu správnou šlehačku navrch. \nModerátorka Markéta Tomanová\, farmaceutka s celostním pohledem\, zakladatelka značky benvital \n​www.marketatomanova.com \n​Ivana je zakladatelka sdružení podniatelek a manažerek v Bratislavě. Propojuje a zviditelňuje podnikatelky a manažerky. Je také lektorkou a mentorkou prezentačních zručností v byznyse. Učí prezentovat přesvědčivě a v souladu s vlastní osobností. \n​www.uspesnezeny.sk \n​\n🗣 Téma:\nNaučíme se představit ve 2 minutách\, abychom opravdu zaujali – otevřeně a prakticky. \n​\n🏡 Online ZDARMA z pohodlí domova.\nStačí se v úterý 24.2. 2026 v 10:00 připojit na Zoom. \n​\n✨ Jak to probíhá?\nKrátké představení (cca 2 min)\, prostor pro propojení i spolupráci – nebo jen příjemné načerpání energie. \n​\n☕ Kávu si připravíš podle chuti\, šlehačku dodáme my. \n​\nTěšíme se na tebe 💜 \n​\n📅 24. 2. 2026 | 10:00 | Online  \n​🔗 (Zoom)https://us05web.zoom.us/j/81504927668?pwd=WnjE5aKojWLmWuEJRQTLlVg0Wfcbbi.1 \nMeeting ID: 815 0492 7668 | Passcode: 405901
URL:https://www.eva-powerfrauen.eu/event/online-videnska-kavicka/
LOCATION:Online
CATEGORIES:Networking ONLINE
ATTACH;FMTTYPE=image/png:https://www.eva-powerfrauen.eu/wp-content/uploads/2026/02/online-videnska-kava-24-februar-2026.png
END:VEVENT
BEGIN:VEVENT
DTSTART;TZID=Europe/Vienna:20260120T100000
DTEND;TZID=Europe/Vienna:20260120T113000
DTSTAMP:20260419T151620
CREATED:20260131T145410Z
LAST-MODIFIED:20260131T170957Z
UID:316-1768903200-1768908600@www.eva-powerfrauen.eu
SUMMARY:NETWORKING ONLINE | Vídeňská kávička
DESCRIPTION:NETWORKING ONLINE | Vídeňská kávička\n\n\nVídeňská káva spojuje chuť a lehkost.Káva spojuje.Šlehačka povyšuje zážitek.A právě ta bude naším speciálním hostem \nPowerFRAUEN Networking tě zve na ONLINE vídeňskou kávičku se speciálním hostem Lindou Berger – koučkou a mentorkou úspěšných žen\, která dodá celé kávě tu správnou šlehačku navrch.\nModerátorka Markéta Tomanová\, farmaceutka s celostním pohledem\, zakladatelka značky benvital\nwww.marketatomanova.com\n\n\nLinda provedla svými online programy zaměřenými na hojnost\, prosperitu a prodej více než 13 000 žen. Pořádá také transformační pobyty pro ženy na Bali a věnuje se tématu (peri)menopauzy z pohledu příležitostí\, životního stylu i těla.\nwww.lindaberger.cz\n\n\n Téma:Podnikání v zahraničí – otevřeně a prakticky.\n\n Online ZDARMA z pohodlí domova.Stačí se v úterý 20. 1. v 10:00 připojit na Zoom.\n\n Jak to probíhá?Krátké představení (cca 2 min)\, prostor pro propojení i spolupráci – nebo jen příjemné načerpání energie.\n\n Kávu si připravíš podle chuti\, šlehačku dodáme my.\n\n\nTěšíme se na tebe \n\n\n\n\n\n\n\n\n 20. 1. 2026 | 10:00 | Online (Zoom) https://us02web.zoom.us/j/86371568008Meeting ID: 863 7156 8008 | Passcode: 955994\nonline registrace na odkazu:https://luma.com/5ukkzmr3
URL:https://www.eva-powerfrauen.eu/event/networking-online-videnska-kavicka/
CATEGORIES:Networking ONLINE
ATTACH;FMTTYPE=image/jpeg:https://www.eva-powerfrauen.eu/wp-content/uploads/2026/01/Videnske-Kafe_Linda-Berger.jpg
END:VEVENT
END:VCALENDAR